BEGIN:VCALENDAR
VERSION:2.0
PRODID:-//ChamberMaster//Event Calendar 2.0//EN
METHOD:PUBLISH
X-PUBLISHED-TTL:P3D
REFRESH-INTERVAL:P3D
CALSCALE:GREGORIAN
BEGIN:VEVENT
DTSTART:20190107T140000Z
DTEND:20190107T190000Z
X-MICROSOFT-CDO-ALLDAYEVENT:FALSE
SUMMARY:WorkReadyNH
DESCRIPTION:WorkReadyNH is a practical\, tuition-free program designed to meet the needs of job seekers and career builders. You'll attend 60 hours of classroom instruction in a simulated workplace setting where you'll learn to practice soft skills. And you'll improve essential workplace skills through online\, self-paced WorkKeys tutorials. Successful participants earn 2 highly recognized credentials!
X-ALT-DESC;FMTTYPE=text/html:WorkReadyNH is a practical\, tuition-free program designed to meet the needs of job seekers and career builders. You&#39\;ll attend 60 hours of classroom instruction in a simulated workplace setting where you&#39\;ll learn to practice soft skills. And you&#39\;ll improve essential workplace skills through online\, self-paced WorkKeys tutorials. Successful participants earn 2 highly recognized credentials!
LOCATION:Great Bay Community College 320 Corporate Drive Portsmouth\, NH 03801
UID:e.1938.4455
SEQUENCE:3
DTSTAMP:20260425T012217Z
URL:http://rochesternh.chambermaster.com/events/details/workreadynh-4455
END:VEVENT

END:VCALENDAR
