BEGIN:VCALENDAR
VERSION:2.0
PRODID:-//ChamberMaster//Event Calendar 2.0//EN
METHOD:PUBLISH
X-PUBLISHED-TTL:P3D
REFRESH-INTERVAL:P3D
CALSCALE:GREGORIAN
BEGIN:VEVENT
DTSTART:20210426T130000Z
DTEND:20210513T170000Z
X-MICROSOFT-CDO-ALLDAYEVENT:FALSE
SUMMARY:WorkReadyNH
DESCRIPTION:WorkReadyNH is a FREE practical program designed to build the skills that employers value most. You'll attend live online classes where you'll learn and practice soft skills\, and enhance your resume\, and strengthen your interview skills. You'll also improve your essential workplace skills through online\, self-paced tutorials. Successful participants earn 2 highly recognized certificates! Please note: This class runs from 9am-1pm\, Monday through Thursday\, from April 26 through May 13. You must plan to attend all of these classes in order to successfully complete the program and earn the certificates!
X-ALT-DESC;FMTTYPE=text/html:WorkReadyNH is a FREE practical program designed to build the skills that employers value most. You&#39\;ll attend live online classes where you&#39\;ll learn and practice soft skills\, and enhance your resume\, and strengthen your interview skills. You&#39\;ll also improve your essential workplace skills through online\, self-paced tutorials. Successful participants earn 2 highly recognized certificates! Please note: This class runs from 9am-1pm\, Monday through Thursday\, from April 26 through May 13. You must plan to attend all of these classes in order to successfully complete the program and earn the certificates!
LOCATION:Virtual Class via Zoom online in your own home!
UID:e.1938.7741
SEQUENCE:3
DTSTAMP:20260423T233818Z
URL:http://rochesternh.chambermaster.com/events/details/workreadynh-04-26-2021-7741
END:VEVENT

END:VCALENDAR
