BEGIN:VCALENDAR
VERSION:2.0
PRODID:-//ChamberMaster//Event Calendar 2.0//EN
METHOD:PUBLISH
X-PUBLISHED-TTL:P3D
REFRESH-INTERVAL:P3D
CALSCALE:GREGORIAN
BEGIN:VEVENT
DTSTART:20180823T220000Z
DTEND:20180824T020000Z
X-MICROSOFT-CDO-ALLDAYEVENT:FALSE
SUMMARY:Summer Music Series
DESCRIPTION:15th Annual Summer Music Series at The Governor's Inn!\n\n\n\nFREE Live music Thursday / Friday / Saturday / Sunday\n\nfrom an outdoor stage in the gorgeous grounds of The Governor's In and The Garage restaurant.\n\nOver 50 acts! ...Accoustic\, Americana\, Country\, Blues\, Bluegrass\, Roots\, Rythem\, and Rock n' Roll!\n\nSee schedule (hours vary) and band lineup at www.Governorsinn.com
X-ALT-DESC;FMTTYPE=text/html:<span style="font-size: 18px\;"><strong>15th Annual Summer Music Series at The Governor&#39\;s Inn!</strong></span><br />\n<br />\nFREE Live music Thursday / Friday / Saturday / Sunday<br />\nfrom an outdoor stage in the gorgeous grounds of The Governor&#39\;s In and The Garage restaurant.<br />\nOver 50 acts! ...Accoustic\, Americana\, Country\, Blues\, Bluegrass\, Roots\, Rythem\, and Rock n&#39\; Roll!<br />\nSee schedule (hours vary) and band lineup at <strong>www.Governorsinn.com</strong>
LOCATION:78 Wakefield Street\, Rochester\, NH 03867
UID:e.1938.3473
SEQUENCE:3
DTSTAMP:20260425T030045Z
URL:http://rochesternh.chambermaster.com/events/details/summer-music-series-08-23-2018-3473
END:VEVENT

END:VCALENDAR
