BEGIN:VCALENDAR
VERSION:2.0
PRODID:-//ChamberMaster//Event Calendar 2.0//EN
METHOD:PUBLISH
X-PUBLISHED-TTL:P3D
REFRESH-INTERVAL:P3D
CALSCALE:GREGORIAN
BEGIN:VEVENT
DTSTART:20180615T230000Z
DTEND:20180616T020000Z
X-MICROSOFT-CDO-ALLDAYEVENT:FALSE
SUMMARY:Stolen Covers
DESCRIPTION:Classic Rock\, Dance and a lil Country
X-ALT-DESC;FMTTYPE=text/html:Classic Rock\, Dance and a lil Country
LOCATION:The Garage at The Governors Inn 78 Wakefield St\, Rochester\, NH 03867
UID:e.1938.4246
SEQUENCE:3
DTSTAMP:20260426T035139Z
URL:http://rochesternh.chambermaster.com/events/details/stolen-covers-4246
END:VEVENT

END:VCALENDAR
