BEGIN:VCALENDAR
VERSION:2.0
PRODID:-//ChamberMaster//Event Calendar 2.0//EN
METHOD:PUBLISH
X-PUBLISHED-TTL:P3D
REFRESH-INTERVAL:P3D
CALSCALE:GREGORIAN
BEGIN:VEVENT
DTSTART:20181017T120000Z
DTEND:20181017T130000Z
X-MICROSOFT-CDO-ALLDAYEVENT:FALSE
SUMMARY:Sidewalk Talk
DESCRIPTION:Join our Economic Vitality Committee for this month's "Sidewalk Talk" at Studley's Flower Gardens.  This informal meeting will include a brief tour of Studley's\, light refreshments\, and an informal meeting. These casual gatherings are a great way to:  ~Exchange information about various downtown events and programs\; ~Get updates on Main Street news\; ~Provide input on Main Street programs and events\; ~Learn more about some of our fantastic downtown businesses\; and ~Enjoy light refreshments provided by the host business! Join us and be involved!
X-ALT-DESC;FMTTYPE=text/html:Join our Economic Vitality Committee for this month&#39\;s &quot\;Sidewalk Talk&quot\; at Studley&#39\;s Flower Gardens.&nbsp\; This informal meeting will include&nbsp\;a brief tour of Studley&#39\;s\, light refreshments\, and an informal meeting. These casual gatherings are a great way to:&nbsp\; ~Exchange information&nbsp\;about various downtown events and programs\; ~Get updates on Main Street news\; ~Provide input on Main Street programs and events\; ~Learn more about&nbsp\;some of our fantastic downtown businesses\; and ~Enjoy light refreshments provided by the host business! Join us&nbsp\;and be involved!
LOCATION:Studley's Flower Gardens
UID:e.1938.4360
SEQUENCE:3
DTSTAMP:20260423T222536Z
URL:http://rochesternh.chambermaster.com/events/details/sidewalk-talk-4360
END:VEVENT

END:VCALENDAR
