BEGIN:VCALENDAR
VERSION:2.0
PRODID:-//ChamberMaster//Event Calendar 2.0//EN
METHOD:PUBLISH
X-PUBLISHED-TTL:P3D
REFRESH-INTERVAL:P3D
CALSCALE:GREGORIAN
BEGIN:VEVENT
DTSTART:20220525T120000Z
DTEND:20220525T140000Z
X-MICROSOFT-CDO-ALLDAYEVENT:FALSE
SUMMARY:Manufacturing Workforce Forum2
DESCRIPTION:Building the Pipeline: A Discussion on the Manufacturing Workforce in the Greater Rochester area.\n\n\n\nJoin the City of Rochester\, Greater Rochester Chamber of Commerce\, NH MEP\, along with local manufacturers\, and state leaders for an in-person discussion about the workforce challenges facing NH manufacturing firms.\n\n \n\nLight Breakfast items will be served.\n\n\n\nPlease note this event is for manufacturers only.
X-ALT-DESC;FMTTYPE=text/html:<div><strong><span style="font-size:16px\;"><span style="font-family:arial\;">Building the Pipeline: A Discussion on the Manufacturing Workforce in the Greater Rochester area.</span></span></strong><br />\n<br />\nJoin the City of Rochester\, Greater Rochester Chamber of Commerce\, NH MEP\, along with local manufacturers\, and state leaders for an in-person discussion about the workforce challenges facing NH manufacturing firms.<br />\n&nbsp\;</div>\n\n<div>Light Breakfast items will be served.<br />\n<br />\n<strong>Please note this event is for manufacturers only.&nbsp\;</strong><br />\n<br />\n&nbsp\;</div>\n
LOCATION:Frisbie Memorial Hospital Community Education & Conference Center 11 Whitehall Road Rochester\, NH
UID:e.1938.8062
SEQUENCE:3
DTSTAMP:20260419T164019Z
URL:http://rochesternh.chambermaster.com/events/details/manufacturing-workforce-forum2-8062
END:VEVENT

END:VCALENDAR
