BEGIN:VCALENDAR
VERSION:2.0
PRODID:-//ChamberMaster//Event Calendar 2.0//EN
METHOD:PUBLISH
X-PUBLISHED-TTL:P3D
REFRESH-INTERVAL:P3D
CALSCALE:GREGORIAN
BEGIN:VEVENT
DTSTART:20180708T200000Z
DTEND:20180708T230000Z
X-MICROSOFT-CDO-ALLDAYEVENT:FALSE
SUMMARY:Equalites
DESCRIPTION:THE EQUALITES are a staple in the pioneer valley reggae scene\, the band has been performing in the region for over 25 years!\n\nIn that time the band has had many different steady members\, and the current incarnation has been together for going on 5 years and has a sound that moves people to the dance floor n more. With four part harmonies and excellent songwriting\, sizzling guitar work\, deep percussion\, and a deep pocket of bass n drums... this is truly 'a great band with killer reggae groove'. The music is at once reggae\, roots music\, blue beat\, has jazz sensibilities\, and much more!
X-ALT-DESC;FMTTYPE=text/html:<p>THE EQUALITES are a staple in the pioneer valley reggae scene\, the band has been performing in the region for over 25 years!</p>\n\n<p>In that time the band has had many different steady members\, and the current incarnation has been together for going on 5 years and has a sound that moves people to the dance floor n more. With four part harmonies and excellent songwriting\, sizzling guitar work\, deep percussion\, and a deep pocket of bass n drums... this is truly &#39\;a great band with killer reggae groove&#39\;. The music is at once reggae\, roots music\, blue beat\, has jazz sensibilities\, and much more!</p>\n
LOCATION:The Garage at The Governor's Inn 78 Wakefield St. Rochester\, NH 03867
UID:e.1938.4258
SEQUENCE:3
DTSTAMP:20260423T012450Z
URL:http://rochesternh.chambermaster.com/events/details/equalites-4258
END:VEVENT

END:VCALENDAR
