BEGIN:VCALENDAR
VERSION:2.0
PRODID:-//ChamberMaster//Event Calendar 2.0//EN
METHOD:PUBLISH
X-PUBLISHED-TTL:P3D
REFRESH-INTERVAL:P3D
CALSCALE:GREGORIAN
BEGIN:VEVENT
DTSTART:20180805T200000Z
DTEND:20180805T230000Z
X-MICROSOFT-CDO-ALLDAYEVENT:FALSE
SUMMARY:Dan Walker
DESCRIPTION:Dan Walker has an organic approach to creating and performing live acoustic music. Groove oriented and soul bound\, his music has earned him opportunities to support Martin Sexton\, Livingston Taylor\, Merle Haggard\, Roseanne Cash and Slaid Cleaves.\n\n \n\nContinually working the gig schedule\, he has received much praise for his voice and guitar picking. As one article has it ?Dan Walker is quite simply one of the finest singer/songwriters on the Seacoast.He's got a voice that belongs smack-dab in the middle of popular radio's programming. A furious picker and relentless strummer with a knack of turning the body of his acoustic guitar into a glorified hand-drum\, Walker is the real deal.
X-ALT-DESC;FMTTYPE=text/html:<div>Dan Walker has an organic approach to creating and performing live acoustic music. Groove oriented and soul bound\, his music has earned him opportunities to support Martin Sexton\, Livingston Taylor\, Merle Haggard\, Roseanne Cash and Slaid Cleaves.</div>\n\n<div>&nbsp\;</div>\n\n<div>Continually working the gig schedule\, he has received much praise for his voice and guitar picking. As one article has it ?Dan Walker is quite simply one of the finest singer/songwriters on the Seacoast.He&#39\;s got a voice that belongs smack-dab in the middle of popular radio&#39\;s programming. A furious picker and relentless strummer with a knack of turning the body of his acoustic guitar into a glorified hand-drum\, Walker is the real deal.</div>\n
LOCATION:The Garage at The Governor's Inn 78 Wakefield St. Rochester\, NH 03867
UID:e.1938.4275
SEQUENCE:3
DTSTAMP:20260425T035838Z
URL:http://rochesternh.chambermaster.com/events/details/dan-walker-4275
END:VEVENT

END:VCALENDAR
