BEGIN:VCALENDAR
VERSION:2.0
PRODID:-//ChamberMaster//Event Calendar 2.0//EN
METHOD:PUBLISH
X-PUBLISHED-TTL:P3D
REFRESH-INTERVAL:P3D
CALSCALE:GREGORIAN
BEGIN:VEVENT
DTSTART:20180722T200000Z
DTEND:20180722T230000Z
X-MICROSOFT-CDO-ALLDAYEVENT:FALSE
SUMMARY:Crunchie Western Boys
DESCRIPTION:"  the best music is hardest to put a label on. The Crunchy Western Boys defy labeling as they pick and strum their way through the DNA of American music\, all with an infectious rocking beat."  -NH Magazine
X-ALT-DESC;FMTTYPE=text/html:&quot\;&hellip\; the best music is hardest to put a label on. The Crunchy Western Boys defy labeling as they pick and strum their way through the DNA of American music\, all with an infectious rocking beat.&quot\;&nbsp\; -NH Magazine
LOCATION:The Garage at The Governor's Inn 78 Wakefield St. Rochester\, NH 03867
UID:e.1938.4267
SEQUENCE:3
DTSTAMP:20260423T073847Z
URL:http://rochesternh.chambermaster.com/events/details/crunchie-western-boys-4267
END:VEVENT

END:VCALENDAR
