BEGIN:VCALENDAR
VERSION:2.0
PRODID:-//ChamberMaster//Event Calendar 2.0//EN
METHOD:PUBLISH
X-PUBLISHED-TTL:P3D
REFRESH-INTERVAL:P3D
CALSCALE:GREGORIAN
BEGIN:VEVENT
DTSTART:20180712T220000Z
DTEND:20180713T010000Z
X-MICROSOFT-CDO-ALLDAYEVENT:FALSE
SUMMARY:Cecil Ables
DESCRIPTION:Cecil and Lincoln started this Bluegrass band back way back in 19??\, and it just keeps getting better. The Portsmouth area's Bogus Family was a predecessor and included Cecil\, Lincoln\, and the Fosters.
X-ALT-DESC;FMTTYPE=text/html:Cecil and Lincoln started this Bluegrass band back way back in 19??\, and it just keeps getting better. The Portsmouth area&#39\;s Bogus Family was a predecessor and included Cecil\, Lincoln\, and the Fosters.
LOCATION:The Governor's Inn Spaulding Steak and Ale 78 Wakefield St. Rochester\, NH 03867
UID:e.1938.4259
SEQUENCE:3
DTSTAMP:20260423T091433Z
URL:http://rochesternh.chambermaster.com/events/details/cecil-ables-4259
END:VEVENT

END:VCALENDAR
