BEGIN:VCALENDAR
VERSION:2.0
PRODID:-//ChamberMaster//Event Calendar 2.0//EN
METHOD:PUBLISH
X-PUBLISHED-TTL:P3D
REFRESH-INTERVAL:P3D
CALSCALE:GREGORIAN
BEGIN:VEVENT
DTSTART:20181022T223000Z
DTEND:20181023T004500Z
X-MICROSOFT-CDO-ALLDAYEVENT:FALSE
SUMMARY:Candidate Forum-State Rep & State Senate
DESCRIPTION:The Greater Rochester Chamber of Commerce's Governmental Affairs Council will present a Candidates Forum for candidates seeking election or re-election to the NH House of Representatives representing Rochester and the State Senate-District 6 race.\n\n\n\nThis is an opportunity for the public to learn about the candidates and where they stand on various issues.  Candidates will answer questions from a media panel on various state issues.  \n\n\n\nQuestions for the candidates may be taken from the public during the forum by calling 603-335-7557. \n\nQuestions from the public may be emailed at anytime to forum@rochesternh.net.\n\n\n\n \nSTATE SENATE - DISTRICT 6 CANDIDATES \n\nSenator James P. Gray (R) - Incumbent\n\nRep. Anne C. Grassie (D)\n\n \n\nSTATE REPRESENTATIVE CANDIDATES FOR ROCHESTER\n\n \n\nState Rep District 7:\n\nTimothy Fontneau (D) - Incumbent\n\nDeborah Kaczynski (R)\n\n \n\nState Rep District 22:\n\nPeg Higgins (D)\n\nThomas L. Kacyznski\, Jr. (R) - Incumbent\n\n \n\nState Rep District 9:  \n\nElaine M. Lauterborn (D)\n\nSteven P. Beaudoin (R) - Incumbent\n\n \n\nState Rep District 23:\n\nSandra B. Keans (D) - Incumbent\n\nDon E. Leeman (R)\n\n \n\nState Rep District 10:  \n\nAmy Cann (D)\n\nJody L. McNally (R) - Incumbent\n\n \n\nState Rep District 11:\n\nChuck Grassie (D) - Incumbent\n\nSue DeLemus (R)\n\n \n\nState Rep District 24:\n\nJeremiah Minihan (D)\n\nMona Perreault (R)\n\nBrandon Phinney (L) - Incumbent\n\n \n\nState Rep District 12:\n\nPamela J. Hubbard (D) - Incumbent\n\nMac Kittredge (R)\n\n \n\nState Rep District 8:\n\nDonna R. Ellis (D) - Incumbent\n\nSharyn Cornish Stuart (R)\n\n\n\n(D) - Democrat\; (R) - Republican\; (L) - Libertarian
X-ALT-DESC;FMTTYPE=text/html:<span style="font-size: 14px\;"><span style="font-family: arial rounded mt bold\;">The Greater Rochester Chamber of Commerce&#39\;s Governmental Affairs Council will present a Candidates Forum for candidates&nbsp\;seeking election or re-election to the NH House of Representatives&nbsp\;representing Rochester and&nbsp\;the State Senate-District 6 race.<br />\n<br />\nThis is an opportunity for the public to learn about the candidates and where they stand on various issues.&nbsp\; Candidates will answer questions from a media panel on various state issues.&nbsp\; </span><br />\n<br />\n<span style="font-family: arial rounded mt bold\;">Questions for the candidates may be taken from the public during the forum </span><span style="font-family: arial rounded mt bold\;">by calling <span style="color: rgb(0\, 0\, 205)\;">603-335-7557</span>.&nbsp\;<br />\nQuestions from the public may be emailed at anytime to <a href="mailto:forum@rochesternh.net"><font color="#0066cc">forum@rochesternh.net</font></a>.</span></span><br />\n<br />\n&nbsp\;\n<div style="text-align: center\;"><span style="font-size: 16px\;"><span style="color: rgb(0\, 0\, 205)\;"><strong>STATE&nbsp\;SENATE - DISTRICT 6&nbsp\;CANDIDATES </strong></span></span></div>\n\n<p style="margin: 0in 0in 0pt\; text-align: center\;"><span style="color: black\;"><font face="Calibri" size="3">Senator James P. Gray (R) - Incumbent<br />\nRep. Anne C. Grassie (D)</font></span></p>\n\n<p style="margin: 0in 0in 0pt\; text-align: center\;">&nbsp\;</p>\n\n<p style="margin: 0in 0in 0pt\; text-align: center\;"><span style="font-size: 16px\;"><span style="color: rgb(0\, 0\, 205)\;"><strong>STATE REPRESENTATIVE CANDIDATES FOR ROCHESTER</strong></span></span></p>\n\n<p style="margin: 0in 0in 0pt\;">&nbsp\;</p>\n\n<p style="margin: 0in 0in 0pt\; text-align: center\;"><span style="color: black\;"><font face="Calibri" size="3"><u><strong>State Rep District 7</strong></u>:</font></span></p>\n\n<p style="margin: 0in 0in 0pt\; text-align: center\;"><span style="color: black\;"><font face="Calibri" size="3">Timothy Fontneau (D) - Incumbent</font></span></p>\n\n<p style="margin: 0in 0in 0pt\; text-align: center\;"><span style="color: black\;"><font face="Calibri" size="3">Deborah Kaczynski (R)</font></span></p>\n\n<p style="margin: 0in 0in 0pt\; text-align: center\;"><span style="color: black\;"><font face="Calibri" size="3">&nbsp\;</font></span></p>\n\n<p style="margin: 0in 0in 0pt\; text-align: center\;"><span style="color: black\;"><font face="Calibri" size="3"><u><strong>State Rep District 22</strong></u>:</font></span></p>\n\n<p style="margin: 0in 0in 0pt\; text-align: center\;"><span style="color: black\;"><font face="Calibri" size="3">Peg Higgins (D)</font></span></p>\n\n<p style="margin: 0in 0in 0pt\; text-align: center\;"><span style="color: black\;"><font face="Calibri" size="3">Thomas L. Kacyznski\, Jr. (R) - Incumbent</font></span></p>\n\n<p style="margin: 0in 0in 0pt\; text-align: center\;"><span style="color: black\;"><font face="Calibri" size="3">&nbsp\;</font></span></p>\n\n<p style="margin: 0in 0in 0pt\; text-align: center\;"><span style="color: black\;"><font face="Calibri" size="3"><u><strong>State Rep District 9</strong></u>:&nbsp\; </font></span></p>\n\n<p style="margin: 0in 0in 0pt\; text-align: center\;"><span style="color: black\;"><font face="Calibri" size="3">Elaine M. Lauterborn (D)</font></span></p>\n\n<p style="margin: 0in 0in 0pt\; text-align: center\;"><span style="color: black\;"><font face="Calibri" size="3">Steven P. Beaudoin (R) - Incumbent</font></span></p>\n\n<p style="margin: 0in 0in 0pt\; text-align: center\;"><span style="color: black\;"><font face="Calibri" size="3">&nbsp\;</font></span></p>\n\n<p style="margin: 0in 0in 0pt\; text-align: center\;"><span style="color: black\;"><font face="Calibri" size="3"><u><strong>State Rep District 23</strong></u>:</font></span></p>\n\n<p style="margin: 0in 0in 0pt\; text-align: center\;"><span style="color: black\;"><font face="Calibri" size="3">Sandra B. Keans (D) - Incumbent</font></span></p>\n\n<p style="margin: 0in 0in 0pt\; text-align: center\;"><span style="color: black\;"><font face="Calibri" size="3">Don E. Leeman (R)</font></span></p>\n\n<p style="margin: 0in 0in 0pt\; text-align: center\;"><span style="color: black\;"><font face="Calibri" size="3">&nbsp\;</font></span></p>\n\n<p style="margin: 0in 0in 0pt\; text-align: center\;"><span style="color: black\;"><font face="Calibri" size="3"><u><strong>State Rep District 10</strong></u>:&nbsp\; </font></span></p>\n\n<p style="margin: 0in 0in 0pt\; text-align: center\;"><span style="color: black\;"><font face="Calibri" size="3">Amy Cann (D)</font></span></p>\n\n<p style="margin: 0in 0in 0pt\; text-align: center\;"><span style="color: black\;"><font face="Calibri" size="3">Jody L. McNally (R) - Incumbent</font></span></p>\n\n<p style="margin: 0in 0in 0pt\; text-align: center\;"><span style="color: black\;"><font face="Calibri" size="3">&nbsp\;</font></span></p>\n\n<p style="margin: 0in 0in 0pt\; text-align: center\;"><span style="color: black\;"><font face="Calibri" size="3"><u><strong>State Rep District 11</strong></u>:</font></span></p>\n\n<p style="margin: 0in 0in 0pt\; text-align: center\;"><span style="color: black\;"><font face="Calibri" size="3">Chuck Grassie (D) - Incumbent</font></span></p>\n\n<p style="margin: 0in 0in 0pt\; text-align: center\;"><span style="color: black\;"><font face="Calibri" size="3">Sue DeLemus (R)</font></span></p>\n\n<p style="margin: 0in 0in 0pt\; text-align: center\;"><span style="color: black\;"><font face="Calibri" size="3">&nbsp\;</font></span></p>\n\n<p style="margin: 0in 0in 0pt\; text-align: center\;"><span style="color: black\;"><font face="Calibri" size="3"><u><strong>State Rep District 24</strong></u>:</font></span></p>\n\n<p style="margin: 0in 0in 0pt\; text-align: center\;"><span style="color: black\;"><font face="Calibri" size="3">Jeremiah Minihan (D)</font></span></p>\n\n<p style="margin: 0in 0in 0pt\; text-align: center\;"><span style="color: black\;"><font face="Calibri" size="3">Mona Perreault (R)</font></span></p>\n\n<p style="margin: 0in 0in 0pt\; text-align: center\;"><span style="color: black\;"><font face="Calibri" size="3">Brandon Phinney (L) - Incumbent</font></span></p>\n\n<p style="margin: 0in 0in 0pt\; text-align: center\;"><span style="color: black\;"><font face="Calibri" size="3">&nbsp\;</font></span></p>\n\n<p style="margin: 0in 0in 0pt\; text-align: center\;"><span style="color: black\;"><font face="Calibri" size="3"><strong><u>State Rep District 12</u></strong>:</font></span></p>\n\n<p style="margin: 0in 0in 0pt\; text-align: center\;"><span style="color: black\;"><font face="Calibri" size="3">Pamela J. Hubbard (D) - Incumbent</font></span></p>\n\n<p style="margin: 0in 0in 0pt\; text-align: center\;"><span style="color: black\;"><font face="Calibri" size="3">Mac Kittredge (R)</font></span></p>\n\n<p style="margin: 0in 0in 0pt\; text-align: center\;"><span style="color: black\;"><font face="Calibri" size="3">&nbsp\;</font></span></p>\n\n<p style="margin: 0in 0in 0pt\; text-align: center\;"><span style="color: black\;"><font face="Calibri" size="3"><u><strong>State Rep District 8</strong></u>:</font></span></p>\n\n<p style="margin: 0in 0in 0pt\; text-align: center\;"><span style="color: black\;"><font face="Calibri" size="3">Donna R. Ellis (D) - Incumbent</font></span></p>\n\n<p style="margin: 0in 0in 0pt\; text-align: center\;"><span style="color: black\;"><font face="Calibri" size="3">Sharyn Cornish Stuart (R)<br />\n<br />\n(D) - Democrat\; (R) - Republican\; (L) - Libertarian</font></span></p>\n
LOCATION:City Council Chambers Rochester City Hall 31 Wakefield Street\, Rochester\, NH
UID:e.1938.4349
SEQUENCE:3
DTSTAMP:20260424T173708Z
URL:http://rochesternh.chambermaster.com/events/details/candidate-forum-state-rep-state-senate-4349
END:VEVENT

END:VCALENDAR
