BEGIN:VCALENDAR
VERSION:2.0
PRODID:-//ChamberMaster//Event Calendar 2.0//EN
METHOD:PUBLISH
X-PUBLISHED-TTL:P3D
REFRESH-INTERVAL:P3D
CALSCALE:GREGORIAN
BEGIN:VEVENT
DTSTART:20180824T230000Z
DTEND:20180825T020000Z
X-MICROSOFT-CDO-ALLDAYEVENT:FALSE
SUMMARY:Brian Munger
DESCRIPTION:Kick up your heels with some Classic Rock!
X-ALT-DESC;FMTTYPE=text/html:Kick up your heels with some Classic Rock!
LOCATION:The Garage at The Governor's Inn 78 Wakefield St. Rochester\, NH 03867
UID:e.1938.4287
SEQUENCE:3
DTSTAMP:20260425T035838Z
URL:http://rochesternh.chambermaster.com/events/details/brian-munger-4287
END:VEVENT

END:VCALENDAR
