BEGIN:VCALENDAR
VERSION:2.0
PRODID:-//ChamberMaster//Event Calendar 2.0//EN
METHOD:PUBLISH
X-PUBLISHED-TTL:P3D
REFRESH-INTERVAL:P3D
CALSCALE:GREGORIAN
BEGIN:VEVENT
DTSTART:20210518T220000Z
DTEND:20210519T000000Z
X-MICROSOFT-CDO-ALLDAYEVENT:FALSE
SUMMARY:Basic Digital Photography Class
DESCRIPTION:Join us in this 3 week course\, where you'll learn from a pro\, the hands-on basics of camera functions\, exposure\, lighting\, composition and more.\n\n\n\nDesigned for the beginning photographer or enthusiasts that need a refresher course.\n\n\n\nDSLR or mirrorless camera with manual mode and interchangeable lens(es) required.\n\n\n\nAn all-hands-on workshop in June is included! Choose Scenic\, Portraits\, Macro (closeup) or Pets\n\nInstructor: Tanya Lee Hervey\n\n\n\nClasses take place every week on Tuesday\, beginning May 18th through June 1st\, for a total of 3 sessions + one workshop.\n\n\n\nClass size is limited to allow for social distancing. Don't miss out! Reserve your place today.
X-ALT-DESC;FMTTYPE=text/html:<div>Join us in this 3 week course\, where you&#39\;ll learn from a pro\, the hands-on basics of camera functions\, exposure\, lighting\, composition and more.</div>\n\n<div><br />\nDesigned for the beginning photographer or enthusiasts that need a refresher course.</div>\n\n<div><br />\nDSLR or mirrorless camera with manual mode and interchangeable lens(es) required.</div>\n\n<div><br />\nAn all-hands-on workshop in June is included! Choose Scenic\, Portraits\, Macro (closeup) or Pets</div>\n\n<div>Instructor: Tanya Lee Hervey</div>\n\n<div><br />\nClasses take place every week on Tuesday\, beginning May 18th through June 1st\, for a total of 3 sessions + one workshop.</div>\n\n<div><br />\nClass size is limited to allow for social distancing. Don&#39\;t miss out! Reserve your place today.</div>\n
LOCATION:Rochester Photography Learning Center 18 S Main St\, Suite 3 Rochester\, NH 03867
UID:e.1938.7816
SEQUENCE:3
DTSTAMP:20260424T070645Z
URL:http://rochesternh.chambermaster.com/events/details/basic-digital-photography-class-7816
END:VEVENT

END:VCALENDAR
