BEGIN:VCALENDAR
VERSION:2.0
PRODID:-//ChamberMaster//Event Calendar 2.0//EN
METHOD:PUBLISH
X-PUBLISHED-TTL:P3D
REFRESH-INTERVAL:P3D
CALSCALE:GREGORIAN
BEGIN:VEVENT
DTSTART;VALUE=DATE:20210319
DTEND;VALUE=DATE:20210328
TRANSP:TRANSPARENT
X-MICROSOFT-CDO-ALLDAYEVENT:TRUE
SUMMARY:2021 Spring Mini Sessions!
DESCRIPTION:Come join us this year for our first ever Spring Mini Sessions!\n\n20 Minute private studio session includes 3 Hi-Resolution digital images w/personal print release via download & $20 print credit for $85.\n\nClick on link to book now! https://book.usesession.com/s/j9YyKXpI0
X-ALT-DESC;FMTTYPE=text/html:<div>Come join us this year for our first ever Spring Mini Sessions!</div>\n\n<div>20 Minute private studio session includes 3 Hi-Resolution digital images w/personal print release via download &amp\; $20 print credit for $85.</div>\n\n<div>Click on link to book now! <span style="font-family:inherit"><a class="oajrlxb2 g5ia77u1 qu0x051f esr5mh6w e9989ue4 r7d6kgcz rq0escxv nhd2j8a9 nc684nl6 p7hjln8o kvgmc6g5 cxmmr5t8 oygrvhab hcukyx3x jb3vyjys rz4wbd8a qt6c0cv9 a8nywdso i1ao9s8h esuyzwwr f1sip0of lzcic4wl py34i1dx gpro0wi8" href="https://book.usesession.com/s/j9YyKXpI0?fbclid=IwAR3w0EoGbdL1hnF3gLZ_UOXkta2rUqUr0QTpTaHm_pwqUUf6XvDIx0d4nsc" rel="nofollow noopener" style="color: var(--blue-link)\; cursor: pointer\; text-decoration-line: none\; outline: none\; list-style: none\; border-width: 0px\; border-style: initial\; border-color: initial\; padding: 0px\; margin: 0px\; touch-action: manipulation\; background-color: transparent\; text-align: inherit\; display: inline\; -webkit-tap-highlight-color: transparent\; box-sizing: border-box\; font-family: inherit\;" tabindex="0" target="_blank">https://book.usesession.com/s/j9YyKXpI0</a></span></div>\n
LOCATION:ImaJenAtion Photography 7 Walker Rd Center Barnstead NH 03225
UID:e.1938.7756
SEQUENCE:3
DTSTAMP:20260424T235202Z
URL:http://rochesternh.chambermaster.com/events/details/2021-spring-mini-sessions-7756
END:VEVENT

END:VCALENDAR
